﻿BEGIN:VCALENDAR
VERSION:2.0
PRODID:-//Tulla-Realschule Karlsruhe - ECPv6.3.2//NONSGML v1.0//EN
CALSCALE:GREGORIAN
METHOD:PUBLISH
X-ORIGINAL-URL:https://www.tulla-realschule.de
X-WR-CALDESC:Veranstaltungen für Tulla-Realschule Karlsruhe
REFRESH-INTERVAL;VALUE=DURATION:PT1H
X-Robots-Tag:noindex
X-PUBLISHED-TTL:PT1H
BEGIN:VTIMEZONE
TZID:Europe/Berlin
BEGIN:DAYLIGHT
TZOFFSETFROM:+0100
TZOFFSETTO:+0200
TZNAME:CEST
DTSTART:20250330T010000
END:DAYLIGHT
BEGIN:STANDARD
TZOFFSETFROM:+0200
TZOFFSETTO:+0100
TZNAME:CET
DTSTART:20251026T010000
END:STANDARD
END:VTIMEZONE
BEGIN:VEVENT
DTSTART;VALUE=DATE:20251003
DTEND;VALUE=DATE:20251004
DTSTAMP:20260421T154707
CREATED:20190911T164125Z
LAST-MODIFIED:20250916T080406Z
UID:2611-1759449600-1759535999@www.tulla-realschule.de
SUMMARY:Tag der Deutschen Einheit
DESCRIPTION:
URL:https://www.tulla-realschule.de/event/tag-der-deutschen-einheit/
CATEGORIES:Unterrichtsfrei
END:VEVENT
BEGIN:VEVENT
DTSTART;VALUE=DATE:20251009
DTEND;VALUE=DATE:20251010
DTSTAMP:20260421T154707
CREATED:20190911T163607Z
LAST-MODIFIED:20250916T080727Z
UID:2603-1759968000-1760054399@www.tulla-realschule.de
SUMMARY:1. Klassenpflegschaften Kl. 5\, 6\, 9a & 10
DESCRIPTION:
URL:https://www.tulla-realschule.de/event/klassenpflgeschaft-kl-5-6/
CATEGORIES:Infoabend
END:VEVENT
BEGIN:VEVENT
DTSTART;VALUE=DATE:20251010
DTEND;VALUE=DATE:20251011
DTSTAMP:20260421T154707
CREATED:20190911T164036Z
LAST-MODIFIED:20250916T081739Z
UID:2609-1760054400-1760140799@www.tulla-realschule.de
SUMMARY:Lehrerexkursion - Unterrichtsende: 11.15 Uhr
DESCRIPTION:
URL:https://www.tulla-realschule.de/event/lehrerexkursion-ue-11-15-uhr/
END:VEVENT
BEGIN:VEVENT
DTSTART;VALUE=DATE:20251014
DTEND;VALUE=DATE:20251015
DTSTAMP:20260421T154707
CREATED:20190911T163813Z
LAST-MODIFIED:20250916T080711Z
UID:2607-1760400000-1760486399@www.tulla-realschule.de
SUMMARY:1. Klassenpflegschaften Kl. 7\, 8\, 9b & 9c
DESCRIPTION:
URL:https://www.tulla-realschule.de/event/klassenpflegschaft-kl-7-9/
CATEGORIES:Infoabend
END:VEVENT
BEGIN:VEVENT
DTSTART;VALUE=DATE:20251020
DTEND;VALUE=DATE:20251025
DTSTAMP:20260421T154707
CREATED:20180924T141735Z
LAST-MODIFIED:20250916T080648Z
UID:1945-1760918400-1761350399@www.tulla-realschule.de
SUMMARY:1. Berufsorientierungswoche
DESCRIPTION:
URL:https://www.tulla-realschule.de/event/bors-kl-9/
CATEGORIES:Berufcamp
END:VEVENT
BEGIN:VEVENT
DTSTART;VALUE=DATE:20251027
DTEND;VALUE=DATE:20251101
DTSTAMP:20260421T154707
CREATED:20190911T164353Z
LAST-MODIFIED:20250916T080600Z
UID:2617-1761523200-1761955199@www.tulla-realschule.de
SUMMARY:Herbstferien
DESCRIPTION:
URL:https://www.tulla-realschule.de/event/herbstferien-2/
CATEGORIES:Unterrichtsfrei
END:VEVENT
END:VCALENDAR