﻿BEGIN:VCALENDAR
VERSION:2.0
PRODID:-//Tulla-Realschule Karlsruhe - ECPv6.3.2//NONSGML v1.0//EN
CALSCALE:GREGORIAN
METHOD:PUBLISH
X-ORIGINAL-URL:https://www.tulla-realschule.de
X-WR-CALDESC:Veranstaltungen für Tulla-Realschule Karlsruhe
REFRESH-INTERVAL;VALUE=DURATION:PT1H
X-Robots-Tag:noindex
X-PUBLISHED-TTL:PT1H
BEGIN:VTIMEZONE
TZID:Europe/Berlin
BEGIN:DAYLIGHT
TZOFFSETFROM:+0100
TZOFFSETTO:+0200
TZNAME:CEST
DTSTART:20250330T010000
END:DAYLIGHT
BEGIN:STANDARD
TZOFFSETFROM:+0200
TZOFFSETTO:+0100
TZNAME:CET
DTSTART:20251026T010000
END:STANDARD
END:VTIMEZONE
BEGIN:VEVENT
DTSTART;TZID=Europe/Berlin:20250717T170000
DTEND;TZID=Europe/Berlin:20250717T190000
DTSTAMP:20260421T203349
CREATED:20180924T154100Z
LAST-MODIFIED:20240908T090442Z
UID:1963-1752771600-1752778800@www.tulla-realschule.de
SUMMARY:Abschlussfeier Kl. 10 ; 9a
DESCRIPTION:
URL:https://www.tulla-realschule.de/event/abschlussfeier-kl-10/
END:VEVENT
BEGIN:VEVENT
DTSTART;TZID=Europe/Berlin:20250730T080000
DTEND;TZID=Europe/Berlin:20250730T111500
DTSTAMP:20260421T203349
CREATED:20180228T072138Z
LAST-MODIFIED:20240908T090658Z
UID:796-1753862400-1753874100@www.tulla-realschule.de
SUMMARY:Schulandacht  & Zeugnisausgabe
DESCRIPTION:Unterrichtsschluss: 11:15 Uhr
URL:https://www.tulla-realschule.de/event/gottesdienst-zeugnisausgabe/
CATEGORIES:Schule
END:VEVENT
BEGIN:VEVENT
DTSTART;VALUE=DATE:20250731
DTEND;VALUE=DATE:20250913
DTSTAMP:20260421T203349
CREATED:20180228T072327Z
LAST-MODIFIED:20250728T101005Z
UID:798-1753920000-1757721599@www.tulla-realschule.de
SUMMARY:Sommerferien - Wir wünschen allen erholsame und sonnige Ferien.
DESCRIPTION:
URL:https://www.tulla-realschule.de/event/sommerferien/
CATEGORIES:Unterrichtsfrei
END:VEVENT
END:VCALENDAR