﻿BEGIN:VCALENDAR
VERSION:2.0
PRODID:-//Tulla-Realschule Karlsruhe - ECPv6.3.2//NONSGML v1.0//EN
CALSCALE:GREGORIAN
METHOD:PUBLISH
X-WR-CALNAME:Tulla-Realschule Karlsruhe
X-ORIGINAL-URL:https://www.tulla-realschule.de
X-WR-CALDESC:Veranstaltungen für Tulla-Realschule Karlsruhe
REFRESH-INTERVAL;VALUE=DURATION:PT1H
X-Robots-Tag:noindex
X-PUBLISHED-TTL:PT1H
BEGIN:VTIMEZONE
TZID:Europe/Berlin
BEGIN:DAYLIGHT
TZOFFSETFROM:+0100
TZOFFSETTO:+0200
TZNAME:CEST
DTSTART:20250330T010000
END:DAYLIGHT
BEGIN:STANDARD
TZOFFSETFROM:+0200
TZOFFSETTO:+0100
TZNAME:CET
DTSTART:20251026T010000
END:STANDARD
END:VTIMEZONE
BEGIN:VEVENT
DTSTART;TZID=Europe/Berlin:20250623T090000
DTEND;TZID=Europe/Berlin:20250623T130000
DTSTAMP:20260421T220833
CREATED:20190911T170512Z
LAST-MODIFIED:20240908T090032Z
UID:2667-1750669200-1750683600@www.tulla-realschule.de
SUMMARY:Nachtermin Realschulabschlussprüfung Deutsch
DESCRIPTION:
URL:https://www.tulla-realschule.de/event/nachtermin-realschulpruefung-deustch/
CATEGORIES:Prüfung
END:VEVENT
BEGIN:VEVENT
DTSTART;TZID=Europe/Berlin:20250623T090000
DTEND;TZID=Europe/Berlin:20250623T130000
DTSTAMP:20260421T220833
CREATED:20190911T171307Z
LAST-MODIFIED:20240908T090340Z
UID:2687-1750669200-1750683600@www.tulla-realschule.de
SUMMARY:Nachtermin Hauptschulabschlussprüfung Deutsch
DESCRIPTION:
URL:https://www.tulla-realschule.de/event/nachtermin-hauptschulabschlusspruefung-deutsch/
CATEGORIES:Prüfung
END:VEVENT
BEGIN:VEVENT
DTSTART;TZID=Europe/Berlin:20250624T090000
DTEND;TZID=Europe/Berlin:20250624T110000
DTSTAMP:20260421T220833
CREATED:20190911T170627Z
LAST-MODIFIED:20240908T090119Z
UID:2671-1750755600-1750762800@www.tulla-realschule.de
SUMMARY:Nachtermin Realschulabschlussprüfung Englisch
DESCRIPTION:
URL:https://www.tulla-realschule.de/event/nachtermin-realschulpruefung-englisch/
CATEGORIES:Prüfung
END:VEVENT
BEGIN:VEVENT
DTSTART;TZID=Europe/Berlin:20250624T090000
DTEND;TZID=Europe/Berlin:20250624T110000
DTSTAMP:20260421T220833
CREATED:20190911T171407Z
LAST-MODIFIED:20240908T090419Z
UID:2691-1750755600-1750762800@www.tulla-realschule.de
SUMMARY:Nachtermin Hauptschulabschlussprüfung Englisch
DESCRIPTION:
URL:https://www.tulla-realschule.de/event/nachtermin-hauptschulabschlusspruefung-englisch/
CATEGORIES:Prüfung
END:VEVENT
BEGIN:VEVENT
DTSTART;TZID=Europe/Berlin:20250625T090000
DTEND;TZID=Europe/Berlin:20250625T120000
DTSTAMP:20260421T220833
CREATED:20190911T170549Z
LAST-MODIFIED:20240908T090054Z
UID:2669-1750842000-1750852800@www.tulla-realschule.de
SUMMARY:Nachtermin Realschulabschlussprüfung Mathe
DESCRIPTION:
URL:https://www.tulla-realschule.de/event/nachtermin-realschulpruefung-mathe/
CATEGORIES:Prüfung
END:VEVENT
BEGIN:VEVENT
DTSTART;TZID=Europe/Berlin:20250625T090000
DTEND;TZID=Europe/Berlin:20250625T120000
DTSTAMP:20260421T220833
CREATED:20190911T171337Z
LAST-MODIFIED:20240908T090358Z
UID:2689-1750842000-1750852800@www.tulla-realschule.de
SUMMARY:Nachtermin Hauptschulabschlussprüfung Mathe
DESCRIPTION:
URL:https://www.tulla-realschule.de/event/nachtermin-hauptschulabschlusspruefung-mathe/
CATEGORIES:Prüfung
END:VEVENT
BEGIN:VEVENT
DTSTART;TZID=Europe/Berlin:20250626T090000
DTEND;TZID=Europe/Berlin:20250626T110000
DTSTAMP:20260421T220833
CREATED:20190911T170657Z
LAST-MODIFIED:20240908T090159Z
UID:2673-1750928400-1750935600@www.tulla-realschule.de
SUMMARY:Nachtermin Realschulabschlussprüfung Wahlpflichtfach
DESCRIPTION:
URL:https://www.tulla-realschule.de/event/nachtermin-realschulpruefung-franzoesisch/
CATEGORIES:Prüfung
END:VEVENT
END:VCALENDAR