﻿BEGIN:VCALENDAR
VERSION:2.0
PRODID:-//Tulla-Realschule Karlsruhe - ECPv6.3.2//NONSGML v1.0//EN
CALSCALE:GREGORIAN
METHOD:PUBLISH
X-WR-CALNAME:Tulla-Realschule Karlsruhe
X-ORIGINAL-URL:https://www.tulla-realschule.de
X-WR-CALDESC:Veranstaltungen für Tulla-Realschule Karlsruhe
REFRESH-INTERVAL;VALUE=DURATION:PT1H
X-Robots-Tag:noindex
X-PUBLISHED-TTL:PT1H
BEGIN:VTIMEZONE
TZID:Europe/Berlin
BEGIN:DAYLIGHT
TZOFFSETFROM:+0100
TZOFFSETTO:+0200
TZNAME:CEST
DTSTART:20250330T010000
END:DAYLIGHT
BEGIN:STANDARD
TZOFFSETFROM:+0200
TZOFFSETTO:+0100
TZNAME:CET
DTSTART:20251026T010000
END:STANDARD
END:VTIMEZONE
BEGIN:VEVENT
DTSTART;VALUE=DATE:20250502
DTEND;VALUE=DATE:20250503
DTSTAMP:20260421T234436
CREATED:20180417T161152Z
LAST-MODIFIED:20240908T084938Z
UID:1676-1746144000-1746230399@www.tulla-realschule.de
SUMMARY:Brückentag (unterrichtsfrei)
DESCRIPTION:
URL:https://www.tulla-realschule.de/event/brueckentag-unterrichtsfrei/
CATEGORIES:Unterrichtsfrei
END:VEVENT
BEGIN:VEVENT
DTSTART;TZID=Europe/Berlin:20250520T090000
DTEND;TZID=Europe/Berlin:20250520T130000
DTSTAMP:20260421T234436
CREATED:20190911T165955Z
LAST-MODIFIED:20240908T085544Z
UID:2653-1747731600-1747746000@www.tulla-realschule.de
SUMMARY:Realschulabschlussprüfung Deutsch
DESCRIPTION:
URL:https://www.tulla-realschule.de/event/realschulpruefung-deutsch/
CATEGORIES:Prüfung
END:VEVENT
BEGIN:VEVENT
DTSTART;TZID=Europe/Berlin:20250520T090000
DTEND;TZID=Europe/Berlin:20250520T130000
DTSTAMP:20260421T234436
CREATED:20190911T170953Z
LAST-MODIFIED:20240908T090224Z
UID:2681-1747731600-1747746000@www.tulla-realschule.de
SUMMARY:Hauptschulabschlussprüfung Deutsch
DESCRIPTION:
URL:https://www.tulla-realschule.de/event/hauptschulabschlusspruefung-deutsch/
CATEGORIES:Prüfung
END:VEVENT
BEGIN:VEVENT
DTSTART;TZID=Europe/Berlin:20250522T090000
DTEND;TZID=Europe/Berlin:20250522T110000
DTSTAMP:20260421T234436
CREATED:20190911T170145Z
LAST-MODIFIED:20240908T085746Z
UID:2657-1747904400-1747911600@www.tulla-realschule.de
SUMMARY:Realschulabschlussprüfung Englisch
DESCRIPTION:
URL:https://www.tulla-realschule.de/event/realschulpruefung-englisch/
CATEGORIES:Prüfung
END:VEVENT
BEGIN:VEVENT
DTSTART;TZID=Europe/Berlin:20250522T090000
DTEND;TZID=Europe/Berlin:20250522T110000
DTSTAMP:20260421T234436
CREATED:20190911T171202Z
LAST-MODIFIED:20240908T090315Z
UID:2685-1747904400-1747911600@www.tulla-realschule.de
SUMMARY:Hauptschulabschlussprüfung Englisch
DESCRIPTION:
URL:https://www.tulla-realschule.de/event/hauptschulabschlusspruefung-englisch/
CATEGORIES:Prüfung
END:VEVENT
BEGIN:VEVENT
DTSTART;TZID=Europe/Berlin:20250526T090000
DTEND;TZID=Europe/Berlin:20250526T120000
DTSTAMP:20260421T234436
CREATED:20190911T170036Z
LAST-MODIFIED:20240908T085723Z
UID:2655-1748250000-1748260800@www.tulla-realschule.de
SUMMARY:Realschulabschlussprüfung Mathe
DESCRIPTION:
URL:https://www.tulla-realschule.de/event/realschulpruefung-mathe/
CATEGORIES:Prüfung
END:VEVENT
BEGIN:VEVENT
DTSTART;TZID=Europe/Berlin:20250526T090000
DTEND;TZID=Europe/Berlin:20250526T120000
DTSTAMP:20260421T234436
CREATED:20190911T171054Z
LAST-MODIFIED:20240908T090249Z
UID:2683-1748250000-1748260800@www.tulla-realschule.de
SUMMARY:Hauptschulabschlussprüfung Mathe
DESCRIPTION:
URL:https://www.tulla-realschule.de/event/hauptschulabschlusspruefung-mathe/
CATEGORIES:Prüfung
END:VEVENT
BEGIN:VEVENT
DTSTART;TZID=Europe/Berlin:20250528T090000
DTEND;TZID=Europe/Berlin:20250528T110000
DTSTAMP:20260421T234436
CREATED:20190911T170238Z
LAST-MODIFIED:20240908T085834Z
UID:2659-1748422800-1748430000@www.tulla-realschule.de
SUMMARY:Realschulabschlussprüfung Wahlpflichtfach
DESCRIPTION:
URL:https://www.tulla-realschule.de/event/realschulpruefung-franzoesisch/
CATEGORIES:Prüfung
END:VEVENT
END:VCALENDAR