﻿BEGIN:VCALENDAR
VERSION:2.0
PRODID:-//Tulla-Realschule Karlsruhe - ECPv6.3.2//NONSGML v1.0//EN
CALSCALE:GREGORIAN
METHOD:PUBLISH
X-ORIGINAL-URL:https://www.tulla-realschule.de
X-WR-CALDESC:Veranstaltungen für Tulla-Realschule Karlsruhe
REFRESH-INTERVAL;VALUE=DURATION:PT1H
X-Robots-Tag:noindex
X-PUBLISHED-TTL:PT1H
BEGIN:VTIMEZONE
TZID:Europe/Berlin
BEGIN:DAYLIGHT
TZOFFSETFROM:+0100
TZOFFSETTO:+0200
TZNAME:CEST
DTSTART:20240331T010000
END:DAYLIGHT
BEGIN:STANDARD
TZOFFSETFROM:+0200
TZOFFSETTO:+0100
TZNAME:CET
DTSTART:20241027T010000
END:STANDARD
END:VTIMEZONE
BEGIN:VEVENT
DTSTART;TZID=Europe/Berlin:20241106T190000
DTEND;TZID=Europe/Berlin:20241106T220000
DTSTAMP:20260422T093020
CREATED:20180913T121441Z
LAST-MODIFIED:20251105T111155Z
UID:1885-1730919600-1730930400@www.tulla-realschule.de
SUMMARY:Elternbeiratssitzung
DESCRIPTION:
URL:https://www.tulla-realschule.de/event/elternbeiratssitzung/
CATEGORIES:Eltern
END:VEVENT
END:VCALENDAR