﻿BEGIN:VCALENDAR
VERSION:2.0
PRODID:-//Tulla-Realschule Karlsruhe - ECPv6.3.2//NONSGML v1.0//EN
CALSCALE:GREGORIAN
METHOD:PUBLISH
X-WR-CALNAME:Tulla-Realschule Karlsruhe
X-ORIGINAL-URL:https://www.tulla-realschule.de
X-WR-CALDESC:Veranstaltungen für Tulla-Realschule Karlsruhe
REFRESH-INTERVAL;VALUE=DURATION:PT1H
X-Robots-Tag:noindex
X-PUBLISHED-TTL:PT1H
BEGIN:VTIMEZONE
TZID:Europe/Berlin
BEGIN:DAYLIGHT
TZOFFSETFROM:+0100
TZOFFSETTO:+0200
TZNAME:CEST
DTSTART:20240331T010000
END:DAYLIGHT
BEGIN:STANDARD
TZOFFSETFROM:+0200
TZOFFSETTO:+0100
TZNAME:CET
DTSTART:20241027T010000
END:STANDARD
END:VTIMEZONE
BEGIN:VEVENT
DTSTART;VALUE=DATE:20240702
DTEND;VALUE=DATE:20240710
DTSTAMP:20260422T153129
CREATED:20201001T182812Z
LAST-MODIFIED:20231005T101008Z
UID:3636-1719878400-1720569599@www.tulla-realschule.de
SUMMARY:Mündliche Prüfungen RS/HS
DESCRIPTION:
URL:https://www.tulla-realschule.de/event/muendliche-pruefungen-rs-hs/
CATEGORIES:Prüfung
END:VEVENT
BEGIN:VEVENT
DTSTART;VALUE=DATE:20240718
DTEND;VALUE=DATE:20240719
DTSTAMP:20260422T153129
CREATED:20180920T090225Z
LAST-MODIFIED:20231005T101729Z
UID:1892-1721260800-1721347199@www.tulla-realschule.de
SUMMARY:Exkursions-/Wandertag
DESCRIPTION:
URL:https://www.tulla-realschule.de/event/exkursions-wandertag/
CATEGORIES:Schule
END:VEVENT
END:VCALENDAR